BEGIN:VCALENDAR
VERSION:2.0
PRODID:-//Rockin Hotrod Productions - ECPv6.15.20//NONSGML v1.0//EN
CALSCALE:GREGORIAN
METHOD:PUBLISH
X-ORIGINAL-URL:https://rockinhotrodproductions.net
X-WR-CALDESC:Events for Rockin Hotrod Productions
REFRESH-INTERVAL;VALUE=DURATION:PT1H
X-Robots-Tag:noindex
X-PUBLISHED-TTL:PT1H
BEGIN:VTIMEZONE
TZID:America/Denver
BEGIN:DAYLIGHT
TZOFFSETFROM:-0700
TZOFFSETTO:-0600
TZNAME:MDT
DTSTART:20250309T090000
END:DAYLIGHT
BEGIN:STANDARD
TZOFFSETFROM:-0600
TZOFFSETTO:-0700
TZNAME:MST
DTSTART:20251102T080000
END:STANDARD
BEGIN:DAYLIGHT
TZOFFSETFROM:-0700
TZOFFSETTO:-0600
TZNAME:MDT
DTSTART:20260308T090000
END:DAYLIGHT
BEGIN:STANDARD
TZOFFSETFROM:-0600
TZOFFSETTO:-0700
TZNAME:MST
DTSTART:20261101T080000
END:STANDARD
BEGIN:DAYLIGHT
TZOFFSETFROM:-0700
TZOFFSETTO:-0600
TZNAME:MDT
DTSTART:20270314T090000
END:DAYLIGHT
BEGIN:STANDARD
TZOFFSETFROM:-0600
TZOFFSETTO:-0700
TZNAME:MST
DTSTART:20271107T080000
END:STANDARD
END:VTIMEZONE
BEGIN:VEVENT
DTSTART;TZID=America/Denver:20260301T120000
DTEND;TZID=America/Denver:20260301T150000
DTSTAMP:20260423T093224
CREATED:20251030T142748Z
LAST-MODIFIED:20251030T142748Z
UID:5710-1772366400-1772377200@rockinhotrodproductions.net
SUMMARY:THE WATERSHED FORMALLY THE MIDWAY 7176 SOUTH 900 EAST MIDVALE\, UT. 12-3 PM
DESCRIPTION:
URL:https://rockinhotrodproductions.net/car-show/the-watershed-formally-the-midway-7176-south-900-east-midvale-ut-12-3-pm/
END:VEVENT
BEGIN:VEVENT
DTSTART;TZID=America/Denver:20260308T120000
DTEND;TZID=America/Denver:20260308T150000
DTSTAMP:20260423T093224
CREATED:20251030T142605Z
LAST-MODIFIED:20260226T194559Z
UID:5706-1772971200-1772982000@rockinhotrodproductions.net
SUMMARY:EXOTIC KITTY 2.0 FREE CRUISE NIGHT 921 SOUTH 300 WEST SLC\, UT. 4-7 PMPOSTPONED DUE TO REMODEL OF CLUB
DESCRIPTION:
URL:https://rockinhotrodproductions.net/car-show/fat-mammoth-free-cruise-night-921-south-300-west-slc-ut-4-7-pm/
END:VEVENT
BEGIN:VEVENT
DTSTART;TZID=America/Denver:20260309T160000
DTEND;TZID=America/Denver:20260309T190000
DTSTAMP:20260423T093224
CREATED:20251030T142950Z
LAST-MODIFIED:20251030T142950Z
UID:5714-1773072000-1773082800@rockinhotrodproductions.net
SUMMARY:CHUBBY'S 1276 WEST 12600 SOUTH RIVERTON\, UT. 4-7 PM
DESCRIPTION:
URL:https://rockinhotrodproductions.net/car-show/chubbys-1276-west-12600-south-riverton-ut-4-7-pm-3/
END:VEVENT
BEGIN:VEVENT
DTSTART;TZID=America/Denver:20260315T120000
DTEND;TZID=America/Denver:20260315T150000
DTSTAMP:20260423T093224
CREATED:20251030T142836Z
LAST-MODIFIED:20251030T142836Z
UID:5712-1773576000-1773586800@rockinhotrodproductions.net
SUMMARY:THE WATERSHED 7176 SOUTH 900 EAST MIDVALE\, UT. 12-3 PM
DESCRIPTION:
URL:https://rockinhotrodproductions.net/car-show/the-watershed-7176-south-900-east-midvale-ut-12-3-pm/
END:VEVENT
BEGIN:VEVENT
DTSTART;TZID=America/Denver:20260318T160000
DTEND;TZID=America/Denver:20260318T190000
DTSTAMP:20260423T093224
CREATED:20251101T151412Z
LAST-MODIFIED:20251101T151412Z
UID:5732-1773849600-1773860400@rockinhotrodproductions.net
SUMMARY:CULVER'S 7697 SOUTH 5600 WEST WEST JORDAN\, UT. 4-7 PM
DESCRIPTION:
URL:https://rockinhotrodproductions.net/car-show/culvers-7697-south-5600-west-west-jordan-ut-4-7-pm-2/
END:VEVENT
BEGIN:VEVENT
DTSTART;TZID=America/Denver:20260322T120000
DTEND;TZID=America/Denver:20260322T150000
DTSTAMP:20260423T093224
CREATED:20251030T143349Z
LAST-MODIFIED:20251030T143349Z
UID:5722-1774180800-1774191600@rockinhotrodproductions.net
SUMMARY:THE PUB 5502 WEST 13400 SOUTH HERRIMAN\, UT. 12-3 PM
DESCRIPTION:
URL:https://rockinhotrodproductions.net/car-show/the-pub-5502-west-13400-south-herriman-ut-12-3-pm-2/
END:VEVENT
BEGIN:VEVENT
DTSTART;TZID=America/Denver:20260323T160000
DTEND;TZID=America/Denver:20260323T190000
DTSTAMP:20260423T093224
CREATED:20251229T195807Z
LAST-MODIFIED:20260323T205903Z
UID:5807-1774281600-1774292400@rockinhotrodproductions.net
SUMMARY:LONE STAR SALOON 3153 WEST 2100 SOUTH WVC\, UT. 4-7 PM Canceled due to Jill being hospitalized.
DESCRIPTION:
URL:https://rockinhotrodproductions.net/car-show/lone-star-saloon-3153-west-2100-south-wvc-ut-4-7-pm/
END:VEVENT
BEGIN:VEVENT
DTSTART;TZID=America/Denver:20260330T160000
DTEND;TZID=America/Denver:20260330T190000
DTSTAMP:20260423T093224
CREATED:20251030T143131Z
LAST-MODIFIED:20251030T143131Z
UID:5718-1774886400-1774897200@rockinhotrodproductions.net
SUMMARY:JIM'S RESTAURANT 12800 SOUTH REDWOOD ROAD RIVERTON\, UT. 4-7 PM
DESCRIPTION:
URL:https://rockinhotrodproductions.net/car-show/jims-restaurant-12800-south-redwood-road-riverton-ut-4-7-pm/
END:VEVENT
END:VCALENDAR