BEGIN:VCALENDAR
VERSION:2.0
PRODID:-//Rockin Hotrod Productions - ECPv6.15.20//NONSGML v1.0//EN
CALSCALE:GREGORIAN
METHOD:PUBLISH
X-WR-CALNAME:Rockin Hotrod Productions
X-ORIGINAL-URL:https://rockinhotrodproductions.net
X-WR-CALDESC:Events for Rockin Hotrod Productions
REFRESH-INTERVAL;VALUE=DURATION:PT1H
X-Robots-Tag:noindex
X-PUBLISHED-TTL:PT1H
BEGIN:VTIMEZONE
TZID:America/Denver
BEGIN:DAYLIGHT
TZOFFSETFROM:-0700
TZOFFSETTO:-0600
TZNAME:MDT
DTSTART:20250309T090000
END:DAYLIGHT
BEGIN:STANDARD
TZOFFSETFROM:-0600
TZOFFSETTO:-0700
TZNAME:MST
DTSTART:20251102T080000
END:STANDARD
BEGIN:DAYLIGHT
TZOFFSETFROM:-0700
TZOFFSETTO:-0600
TZNAME:MDT
DTSTART:20260308T090000
END:DAYLIGHT
BEGIN:STANDARD
TZOFFSETFROM:-0600
TZOFFSETTO:-0700
TZNAME:MST
DTSTART:20261101T080000
END:STANDARD
BEGIN:DAYLIGHT
TZOFFSETFROM:-0700
TZOFFSETTO:-0600
TZNAME:MDT
DTSTART:20270314T090000
END:DAYLIGHT
BEGIN:STANDARD
TZOFFSETFROM:-0600
TZOFFSETTO:-0700
TZNAME:MST
DTSTART:20271107T080000
END:STANDARD
END:VTIMEZONE
BEGIN:VEVENT
DTSTART;TZID=America/Denver:20260803T170000
DTEND;TZID=America/Denver:20260803T200000
DTSTAMP:20260423T155730
CREATED:20251229T204345Z
LAST-MODIFIED:20251229T204345Z
UID:5818-1785776400-1785787200@rockinhotrodproductions.net
SUMMARY:LONE STAR SALOON 3153 WEST 2100 SOUTH WVC\, UT. 5-8 PM
DESCRIPTION:
URL:https://rockinhotrodproductions.net/car-show/lone-star-saloon-3153-west-2100-south-wvc-ut-5-8-pm-4/
END:VEVENT
BEGIN:VEVENT
DTSTART;TZID=America/Denver:20260808T100000
DTEND;TZID=America/Denver:20260808T150000
DTSTAMP:20260423T155730
CREATED:20251115T224714Z
LAST-MODIFIED:20260331T134410Z
UID:5745-1786183200-1786201200@rockinhotrodproductions.net
SUMMARY:LEHI PD FUNDRAISER CAR SHOW CABELA'S LEHI\, UT. 10-3 PM
DESCRIPTION:
URL:https://rockinhotrodproductions.net/car-show/lehi-pd-fundraiser-car-show-cabelas-lehi-ut-10-3-pm/
END:VEVENT
BEGIN:VEVENT
DTSTART;TZID=America/Denver:20260809T120000
DTEND;TZID=America/Denver:20260809T150000
DTSTAMP:20260423T155730
CREATED:20260117T135912Z
LAST-MODIFIED:20260117T135912Z
UID:5857-1786276800-1786287600@rockinhotrodproductions.net
SUMMARY:TRAILS 921 SOUTH 300 WEST SLC\, UT. 12-3 PM
DESCRIPTION:
URL:https://rockinhotrodproductions.net/car-show/trails-921-south-300-west-slc-ut-12-3-pm/
END:VEVENT
BEGIN:VEVENT
DTSTART;TZID=America/Denver:20260810T170000
DTEND;TZID=America/Denver:20260810T200000
DTSTAMP:20260423T155730
CREATED:20260117T140111Z
LAST-MODIFIED:20260117T140111Z
UID:5861-1786381200-1786392000@rockinhotrodproductions.net
SUMMARY:CHUBBY'S 1276 WEST 12600 SOUTH RIVERTON\, UT.5-8 PM
DESCRIPTION:
URL:https://rockinhotrodproductions.net/car-show/chubbys-1276-west-12600-south-riverton-ut-5-8-pm-8/
END:VEVENT
BEGIN:VEVENT
DTSTART;TZID=America/Denver:20260815T100000
DTEND;TZID=America/Denver:20260815T150000
DTSTAMP:20260423T155730
CREATED:20260117T135600Z
LAST-MODIFIED:20260117T135600Z
UID:5851-1786788000-1786806000@rockinhotrodproductions.net
SUMMARY:STANSBURY DAYS CAR SHOW
DESCRIPTION:
URL:https://rockinhotrodproductions.net/car-show/stansbury-days-car-show/
END:VEVENT
BEGIN:VEVENT
DTSTART;TZID=America/Denver:20260816T120000
DTEND;TZID=America/Denver:20260816T150000
DTSTAMP:20260423T155730
CREATED:20260117T135822Z
LAST-MODIFIED:20260117T135822Z
UID:5855-1786881600-1786892400@rockinhotrodproductions.net
SUMMARY:THE WATERSHED 7176 SOUTH 900 EAST MIDVALE\, UT. 12-3 PM
DESCRIPTION:
URL:https://rockinhotrodproductions.net/car-show/the-watershed-7176-south-900-east-midvale-ut-12-3-pm-7/
END:VEVENT
BEGIN:VEVENT
DTSTART;TZID=America/Denver:20260817T170000
DTEND;TZID=America/Denver:20260817T200000
DTSTAMP:20260423T155730
CREATED:20260417T210040Z
LAST-MODIFIED:20260417T210040Z
UID:5924-1786986000-1786996800@rockinhotrodproductions.net
SUMMARY:CHUBBY'S IN HERRIMAN 12271 MAIN STREET HERRIMAN 5-8 PM
DESCRIPTION:
URL:https://rockinhotrodproductions.net/car-show/chubbys-in-herriman-12271-main-street-herriman-5-8-pm/
END:VEVENT
BEGIN:VEVENT
DTSTART;TZID=America/Denver:20260817T170000
DTEND;TZID=America/Denver:20260817T200000
DTSTAMP:20260423T155730
CREATED:20260417T210304Z
LAST-MODIFIED:20260417T210304Z
UID:5928-1786986000-1786996800@rockinhotrodproductions.net
SUMMARY:CHUBBY'S IN HERRIMAN 12271 MAIN STREET HERRIMAN\, UT. 5-8 PM
DESCRIPTION:
URL:https://rockinhotrodproductions.net/car-show/chubbys-in-herriman-12271-main-street-herriman-ut-5-8-pm-2/
END:VEVENT
BEGIN:VEVENT
DTSTART;TZID=America/Denver:20260819T170000
DTEND;TZID=America/Denver:20260819T200000
DTSTAMP:20260423T155730
CREATED:20260117T140403Z
LAST-MODIFIED:20260117T140403Z
UID:5865-1787158800-1787169600@rockinhotrodproductions.net
SUMMARY:CULVERS 7697 SOUTH 5600 WEST WEST JORDAN\, UT. 5-8 PM
DESCRIPTION:
URL:https://rockinhotrodproductions.net/car-show/culvers-7697-south-5600-west-west-jordan-ut-5-8-pm-9/
END:VEVENT
BEGIN:VEVENT
DTSTART;TZID=America/Denver:20260822T090000
DTEND;TZID=America/Denver:20260822T143000
DTSTAMP:20260423T155730
CREATED:20251218T163605Z
LAST-MODIFIED:20251218T163605Z
UID:5797-1787389200-1787409000@rockinhotrodproductions.net
SUMMARY:VETERANS ALLIANCE CAR SHOW WHEELER FARM SLC\, UT. 9-2:30 PM
DESCRIPTION:
URL:https://rockinhotrodproductions.net/car-show/veterans-alliance-car-show-wheeler-farm-slc-ut-9-230-pm/
END:VEVENT
BEGIN:VEVENT
DTSTART;TZID=America/Denver:20260822T100000
DTEND;TZID=America/Denver:20260822T150000
DTSTAMP:20260423T155730
CREATED:20260328T140612Z
LAST-MODIFIED:20260328T140612Z
UID:5906-1787392800-1787410800@rockinhotrodproductions.net
SUMMARY:VETERANS ALLIANCE CAR SHOW 6351 SOUTH 900 EAST WHEELER FARM. 10-3 PM.
DESCRIPTION:
URL:https://rockinhotrodproductions.net/car-show/veterans-alliance-car-show-6351-south-900-east-wheeler-farm-10-3-pm/
END:VEVENT
BEGIN:VEVENT
DTSTART;TZID=America/Denver:20260823T120000
DTEND;TZID=America/Denver:20260823T150000
DTSTAMP:20260423T155730
CREATED:20260117T140006Z
LAST-MODIFIED:20260117T140006Z
UID:5859-1787486400-1787497200@rockinhotrodproductions.net
SUMMARY:THE PUB 5502 WEST 13400 SOUTH HERRIMAN\, UT. 12-3 PM
DESCRIPTION:
URL:https://rockinhotrodproductions.net/car-show/the-pub-5502-west-13400-south-herriman-ut-12-3-pm-7/
END:VEVENT
BEGIN:VEVENT
DTSTART;TZID=America/Denver:20260828T170000
DTEND;TZID=America/Denver:20260828T200000
DTSTAMP:20260423T155730
CREATED:20260318T175650Z
LAST-MODIFIED:20260318T175650Z
UID:5898-1787936400-1787947200@rockinhotrodproductions.net
SUMMARY:STANS MARKET 4195 WEST 5415 SOUTH KEARNS\, UT. 5-8 PM
DESCRIPTION:
URL:https://rockinhotrodproductions.net/car-show/stans-market-4195-west-5415-south-kearns-ut-5-8-pm-2/
END:VEVENT
BEGIN:VEVENT
DTSTART;TZID=America/Denver:20260829T100000
DTEND;TZID=America/Denver:20260829T150000
DTSTAMP:20260423T155730
CREATED:20260131T000208Z
LAST-MODIFIED:20260131T000208Z
UID:5872-1787997600-1788015600@rockinhotrodproductions.net
SUMMARY:TEXAS ROADHOUSE FUNDRAISER CAR SHOW 11593 SOUTH 4000 WEST SO. JORDAN\, UT 10-3 PM
DESCRIPTION:
URL:https://rockinhotrodproductions.net/car-show/texas-roadhouse-fundraiser-car-show-11593-south-4000-west-so-jordan-ut-10-3-pm/
END:VEVENT
BEGIN:VEVENT
DTSTART;TZID=America/Denver:20260831T170000
DTEND;TZID=America/Denver:20260831T200000
DTSTAMP:20260423T155730
CREATED:20260117T140211Z
LAST-MODIFIED:20260117T140211Z
UID:5863-1788195600-1788206400@rockinhotrodproductions.net
SUMMARY:JIM'S RESTAURANT 12800 SOUTH REDWOOD RD. RIVERTON\, UT. 5-8 PM.
DESCRIPTION:
URL:https://rockinhotrodproductions.net/car-show/jims-restaurant-12800-south-redwood-rd-riverton-ut-5-8-pm-2/
END:VEVENT
BEGIN:VEVENT
DTSTART;TZID=America/Denver:20260918T170000
DTEND;TZID=America/Denver:20260918T200000
DTSTAMP:20260423T155730
CREATED:20260224T222933Z
LAST-MODIFIED:20260224T222933Z
UID:5882-1789750800-1789761600@rockinhotrodproductions.net
SUMMARY:HOUSING AUTHORITY OF SALT LAKE
DESCRIPTION:
URL:https://rockinhotrodproductions.net/car-show/housing-authority-of-salt-lake/
END:VEVENT
BEGIN:VEVENT
DTSTART;TZID=America/Denver:20260919T100000
DTEND;TZID=America/Denver:20260919T150000
DTSTAMP:20260423T155730
CREATED:20251011T223318Z
LAST-MODIFIED:20251011T223318Z
UID:5688-1789812000-1789830000@rockinhotrodproductions.net
SUMMARY:St James Car Show
DESCRIPTION:
URL:https://rockinhotrodproductions.net/car-show/st-james-car-show/
END:VEVENT
BEGIN:VEVENT
DTSTART;TZID=America/Denver:20260921T170000
DTEND;TZID=America/Denver:20260921T200000
DTSTAMP:20260423T155730
CREATED:20260417T210439Z
LAST-MODIFIED:20260417T210439Z
UID:5930-1790010000-1790020800@rockinhotrodproductions.net
SUMMARY:CHUBBY'S IN HERRIMAN 12271 MAIN STREET IN HERRIMAN\, UT. 5-8 PM
DESCRIPTION:
URL:https://rockinhotrodproductions.net/car-show/chubbys-in-herriman-12271-main-street-in-herriman-ut-5-8-pm/
END:VEVENT
BEGIN:VEVENT
DTSTART;TZID=America/Denver:20261010T100000
DTEND;TZID=America/Denver:20261010T150000
DTSTAMP:20260423T155730
CREATED:20251030T142502Z
LAST-MODIFIED:20251030T142502Z
UID:5704-1791626400-1791644400@rockinhotrodproductions.net
SUMMARY:TOY DRIVE BLUFFDALE PARK 14400 SOUT 24OO WEST 10-3 PM
DESCRIPTION:
URL:https://rockinhotrodproductions.net/car-show/toy-drive-bluffdale-park-14400-sout-24oo-west-10-3-pm/
END:VEVENT
BEGIN:VEVENT
DTSTART;TZID=America/Denver:20261017T110000
DTEND;TZID=America/Denver:20261017T140000
DTSTAMP:20260423T155730
CREATED:20251101T151555Z
LAST-MODIFIED:20251101T151555Z
UID:5734-1792234800-1792245600@rockinhotrodproductions.net
SUMMARY:EAGLE MOUNTAIN HALLOWEEN FREE CAR SHOW 7862 NORTH TINAMOUS ROAD EAGLE MTN. UT. 11-2 PM
DESCRIPTION:
URL:https://rockinhotrodproductions.net/car-show/eagle-mountain-halloween-free-car-show-7862-north-tinamous-road-eagle-mtn-ut-11-2-pm/
END:VEVENT
END:VCALENDAR