BEGIN:VCALENDAR
VERSION:2.0
PRODID:-//Rockin Hotrod Productions - ECPv6.15.20//NONSGML v1.0//EN
CALSCALE:GREGORIAN
METHOD:PUBLISH
X-WR-CALNAME:Rockin Hotrod Productions
X-ORIGINAL-URL:https://rockinhotrodproductions.net
X-WR-CALDESC:Events for Rockin Hotrod Productions
REFRESH-INTERVAL;VALUE=DURATION:PT1H
X-Robots-Tag:noindex
X-PUBLISHED-TTL:PT1H
BEGIN:VTIMEZONE
TZID:America/Denver
BEGIN:DAYLIGHT
TZOFFSETFROM:-0700
TZOFFSETTO:-0600
TZNAME:MDT
DTSTART:20240310T090000
END:DAYLIGHT
BEGIN:STANDARD
TZOFFSETFROM:-0600
TZOFFSETTO:-0700
TZNAME:MST
DTSTART:20241103T080000
END:STANDARD
BEGIN:DAYLIGHT
TZOFFSETFROM:-0700
TZOFFSETTO:-0600
TZNAME:MDT
DTSTART:20250309T090000
END:DAYLIGHT
BEGIN:STANDARD
TZOFFSETFROM:-0600
TZOFFSETTO:-0700
TZNAME:MST
DTSTART:20251102T080000
END:STANDARD
BEGIN:DAYLIGHT
TZOFFSETFROM:-0700
TZOFFSETTO:-0600
TZNAME:MDT
DTSTART:20260308T090000
END:DAYLIGHT
BEGIN:STANDARD
TZOFFSETFROM:-0600
TZOFFSETTO:-0700
TZNAME:MST
DTSTART:20261101T080000
END:STANDARD
END:VTIMEZONE
BEGIN:VEVENT
DTSTART;TZID=America/Denver:20250815T170000
DTEND;TZID=America/Denver:20250815T200000
DTSTAMP:20260423T173658
CREATED:20250116T151338Z
LAST-MODIFIED:20250116T151338Z
UID:5486-1755277200-1755288000@rockinhotrodproductions.net
SUMMARY:HAGEN COLLISION 3285 WEST 12600 SOUTH RIVERTON\, UT. 5-8 PM\,
DESCRIPTION:
URL:https://rockinhotrodproductions.net/car-show/hagen-collision-3285-west-12600-south-riverton-ut-5-8-pm/
END:VEVENT
BEGIN:VEVENT
DTSTART;TZID=America/Denver:20250811T080000
DTEND;TZID=America/Denver:20250811T170000
DTSTAMP:20260423T173658
CREATED:20250403T000320Z
LAST-MODIFIED:20250403T000333Z
UID:5546-1754899200-1754931600@rockinhotrodproductions.net
SUMMARY:CHUBBY'S 1276 WEST 12600 SOUTH RIVERTON\, UT. 5-8 PM
DESCRIPTION:
URL:https://rockinhotrodproductions.net/car-show/chubbys-1276-west-12600-south-riverton-ut-508-pm/
END:VEVENT
BEGIN:VEVENT
DTSTART;TZID=America/Denver:20250809T110000
DTEND;TZID=America/Denver:20250809T160000
DTSTAMP:20260423T173658
CREATED:20250716T133647Z
LAST-MODIFIED:20250805T124143Z
UID:5635-1754737200-1754755200@rockinhotrodproductions.net
SUMMARY:RESUE ROVERS FUNDRAISER CAR SHOW 6479 NORTH STAR  DISCOVERY WAY STANSBURY PARK UTAH11-4 PM
DESCRIPTION:
URL:https://rockinhotrodproductions.net/car-show/resue-rovers-fundraiser-car-show-porter-way-park-n-star-discovery-way-west-porter-way-stansbury-utah11-4-pm/
END:VEVENT
BEGIN:VEVENT
DTSTART;TZID=America/Denver:20250808T170000
DTEND;TZID=America/Denver:20250808T200000
DTSTAMP:20260423T173658
CREATED:20250625T200610Z
LAST-MODIFIED:20250625T200610Z
UID:5626-1754672400-1754683200@rockinhotrodproductions.net
SUMMARY:HIGHLAND COVE SENIOR CENTER 3750 SOUTH HIGHLAND DRIVE SLC\, UT. 5-8 PM
DESCRIPTION:
URL:https://rockinhotrodproductions.net/car-show/highland-cove-senior-center-3750-south-highland-drive-slc-ut-5-8-pm/
END:VEVENT
BEGIN:VEVENT
DTSTART;TZID=America/Denver:20250807T160000
DTEND;TZID=America/Denver:20250807T210000
DTSTAMP:20260423T173658
CREATED:20241201T192335Z
LAST-MODIFIED:20241201T192335Z
UID:5381-1754582400-1754600400@rockinhotrodproductions.net
SUMMARY:BLUFFDALE LIONS CLUB CAR SHOW 2400 WEST 14400 SOUTH BLUFFDALE UT. 4-9 PM
DESCRIPTION:
URL:https://rockinhotrodproductions.net/car-show/bluffdale-lions-club-car-show-2400-west-14400-south-bluffdale-ut-4-9-pm/
END:VEVENT
BEGIN:VEVENT
DTSTART;TZID=America/Denver:20250803T120000
DTEND;TZID=America/Denver:20250803T150000
DTSTAMP:20260423T173658
CREATED:20250402T232956Z
LAST-MODIFIED:20250402T232956Z
UID:5540-1754222400-1754233200@rockinhotrodproductions.net
SUMMARY:THE MIDWAY 7176 WEST 900 EAST MIDVALE UT. 12-3 PM
DESCRIPTION:
URL:https://rockinhotrodproductions.net/car-show/the-midway-7176-west-900-east-midvale-ut-12-3-pm/
END:VEVENT
BEGIN:VEVENT
DTSTART;TZID=America/Denver:20250728T040000
DTEND;TZID=America/Denver:20250728T210000
DTSTAMP:20260423T173658
CREATED:20250116T151154Z
LAST-MODIFIED:20250226T124957Z
UID:5484-1753675200-1753736400@rockinhotrodproductions.net
SUMMARY:LINDON DAYS FREE CAR SHOW 800 WEST 400 NORTH LINDON CITY\, UT. 4-9 PM
DESCRIPTION:
URL:https://rockinhotrodproductions.net/car-show/lindon-days-free-car-show-800-west-400-north-lindon-city-ut-4-9-pm/
END:VEVENT
BEGIN:VEVENT
DTSTART;TZID=America/Denver:20250727T120000
DTEND;TZID=America/Denver:20250727T150000
DTSTAMP:20260423T173658
CREATED:20250109T210600Z
LAST-MODIFIED:20250109T210600Z
UID:5468-1753617600-1753628400@rockinhotrodproductions.net
SUMMARY:BOUT TIME PUB 5502 WEST 13400 SOUTH HERRIMAN\, UT. 12-3 PM
DESCRIPTION:
URL:https://rockinhotrodproductions.net/car-show/bout-time-pub-5502-west-13400-south-herriman-ut-12-3-pm-4/
END:VEVENT
BEGIN:VEVENT
DTSTART;TZID=America/Denver:20250726T110000
DTEND;TZID=America/Denver:20250726T160000
DTSTAMP:20260423T173658
CREATED:20250706T150357Z
LAST-MODIFIED:20250706T150357Z
UID:5630-1753527600-1753545600@rockinhotrodproductions.net
SUMMARY:BONNEVILLE BREWERY 1641 NORTH MAIN STREET TOOELE\, UT. 11-4 PM
DESCRIPTION:
URL:https://rockinhotrodproductions.net/car-show/bonneville-brewery-1641-north-main-street-tooele-ut-11-4-pm/
END:VEVENT
END:VCALENDAR