BEGIN:VCALENDAR
VERSION:2.0
PRODID:-//Rockin Hotrod Productions - ECPv6.15.20//NONSGML v1.0//EN
CALSCALE:GREGORIAN
METHOD:PUBLISH
X-ORIGINAL-URL:https://rockinhotrodproductions.net
X-WR-CALDESC:Events for Rockin Hotrod Productions
REFRESH-INTERVAL;VALUE=DURATION:PT1H
X-Robots-Tag:noindex
X-PUBLISHED-TTL:PT1H
BEGIN:VTIMEZONE
TZID:America/Denver
BEGIN:DAYLIGHT
TZOFFSETFROM:-0700
TZOFFSETTO:-0600
TZNAME:MDT
DTSTART:20250309T090000
END:DAYLIGHT
BEGIN:STANDARD
TZOFFSETFROM:-0600
TZOFFSETTO:-0700
TZNAME:MST
DTSTART:20251102T080000
END:STANDARD
BEGIN:DAYLIGHT
TZOFFSETFROM:-0700
TZOFFSETTO:-0600
TZNAME:MDT
DTSTART:20260308T090000
END:DAYLIGHT
BEGIN:STANDARD
TZOFFSETFROM:-0600
TZOFFSETTO:-0700
TZNAME:MST
DTSTART:20261101T080000
END:STANDARD
BEGIN:DAYLIGHT
TZOFFSETFROM:-0700
TZOFFSETTO:-0600
TZNAME:MDT
DTSTART:20270314T090000
END:DAYLIGHT
BEGIN:STANDARD
TZOFFSETFROM:-0600
TZOFFSETTO:-0700
TZNAME:MST
DTSTART:20271107T080000
END:STANDARD
END:VTIMEZONE
BEGIN:VEVENT
DTSTART;TZID=America/Denver:20260823T120000
DTEND;TZID=America/Denver:20260823T150000
DTSTAMP:20260423T160554
CREATED:20260117T140006Z
LAST-MODIFIED:20260117T140006Z
UID:5859-1787486400-1787497200@rockinhotrodproductions.net
SUMMARY:THE PUB 5502 WEST 13400 SOUTH HERRIMAN\, UT. 12-3 PM
DESCRIPTION:
URL:https://rockinhotrodproductions.net/car-show/the-pub-5502-west-13400-south-herriman-ut-12-3-pm-7/
END:VEVENT
BEGIN:VEVENT
DTSTART;TZID=America/Denver:20260828T170000
DTEND;TZID=America/Denver:20260828T200000
DTSTAMP:20260423T160554
CREATED:20260318T175650Z
LAST-MODIFIED:20260318T175650Z
UID:5898-1787936400-1787947200@rockinhotrodproductions.net
SUMMARY:STANS MARKET 4195 WEST 5415 SOUTH KEARNS\, UT. 5-8 PM
DESCRIPTION:
URL:https://rockinhotrodproductions.net/car-show/stans-market-4195-west-5415-south-kearns-ut-5-8-pm-2/
END:VEVENT
BEGIN:VEVENT
DTSTART;TZID=America/Denver:20260829T100000
DTEND;TZID=America/Denver:20260829T150000
DTSTAMP:20260423T160554
CREATED:20260131T000208Z
LAST-MODIFIED:20260131T000208Z
UID:5872-1787997600-1788015600@rockinhotrodproductions.net
SUMMARY:TEXAS ROADHOUSE FUNDRAISER CAR SHOW 11593 SOUTH 4000 WEST SO. JORDAN\, UT 10-3 PM
DESCRIPTION:
URL:https://rockinhotrodproductions.net/car-show/texas-roadhouse-fundraiser-car-show-11593-south-4000-west-so-jordan-ut-10-3-pm/
END:VEVENT
BEGIN:VEVENT
DTSTART;TZID=America/Denver:20260831T170000
DTEND;TZID=America/Denver:20260831T200000
DTSTAMP:20260423T160554
CREATED:20260117T140211Z
LAST-MODIFIED:20260117T140211Z
UID:5863-1788195600-1788206400@rockinhotrodproductions.net
SUMMARY:JIM'S RESTAURANT 12800 SOUTH REDWOOD RD. RIVERTON\, UT. 5-8 PM.
DESCRIPTION:
URL:https://rockinhotrodproductions.net/car-show/jims-restaurant-12800-south-redwood-rd-riverton-ut-5-8-pm-2/
END:VEVENT
BEGIN:VEVENT
DTSTART;TZID=America/Denver:20260918T170000
DTEND;TZID=America/Denver:20260918T200000
DTSTAMP:20260423T160554
CREATED:20260224T222933Z
LAST-MODIFIED:20260224T222933Z
UID:5882-1789750800-1789761600@rockinhotrodproductions.net
SUMMARY:HOUSING AUTHORITY OF SALT LAKE
DESCRIPTION:
URL:https://rockinhotrodproductions.net/car-show/housing-authority-of-salt-lake/
END:VEVENT
BEGIN:VEVENT
DTSTART;TZID=America/Denver:20260919T100000
DTEND;TZID=America/Denver:20260919T150000
DTSTAMP:20260423T160554
CREATED:20251011T223318Z
LAST-MODIFIED:20251011T223318Z
UID:5688-1789812000-1789830000@rockinhotrodproductions.net
SUMMARY:St James Car Show
DESCRIPTION:
URL:https://rockinhotrodproductions.net/car-show/st-james-car-show/
END:VEVENT
BEGIN:VEVENT
DTSTART;TZID=America/Denver:20260921T170000
DTEND;TZID=America/Denver:20260921T200000
DTSTAMP:20260423T160554
CREATED:20260417T210439Z
LAST-MODIFIED:20260417T210439Z
UID:5930-1790010000-1790020800@rockinhotrodproductions.net
SUMMARY:CHUBBY'S IN HERRIMAN 12271 MAIN STREET IN HERRIMAN\, UT. 5-8 PM
DESCRIPTION:
URL:https://rockinhotrodproductions.net/car-show/chubbys-in-herriman-12271-main-street-in-herriman-ut-5-8-pm/
END:VEVENT
BEGIN:VEVENT
DTSTART;TZID=America/Denver:20261010T100000
DTEND;TZID=America/Denver:20261010T150000
DTSTAMP:20260423T160554
CREATED:20251030T142502Z
LAST-MODIFIED:20251030T142502Z
UID:5704-1791626400-1791644400@rockinhotrodproductions.net
SUMMARY:TOY DRIVE BLUFFDALE PARK 14400 SOUT 24OO WEST 10-3 PM
DESCRIPTION:
URL:https://rockinhotrodproductions.net/car-show/toy-drive-bluffdale-park-14400-sout-24oo-west-10-3-pm/
END:VEVENT
BEGIN:VEVENT
DTSTART;TZID=America/Denver:20261017T110000
DTEND;TZID=America/Denver:20261017T140000
DTSTAMP:20260423T160554
CREATED:20251101T151555Z
LAST-MODIFIED:20251101T151555Z
UID:5734-1792234800-1792245600@rockinhotrodproductions.net
SUMMARY:EAGLE MOUNTAIN HALLOWEEN FREE CAR SHOW 7862 NORTH TINAMOUS ROAD EAGLE MTN. UT. 11-2 PM
DESCRIPTION:
URL:https://rockinhotrodproductions.net/car-show/eagle-mountain-halloween-free-car-show-7862-north-tinamous-road-eagle-mtn-ut-11-2-pm/
END:VEVENT
END:VCALENDAR