BEGIN:VCALENDAR
VERSION:2.0
PRODID:-//Rockin Hotrod Productions - ECPv6.15.20//NONSGML v1.0//EN
CALSCALE:GREGORIAN
METHOD:PUBLISH
X-WR-CALNAME:Rockin Hotrod Productions
X-ORIGINAL-URL:https://rockinhotrodproductions.net
X-WR-CALDESC:Events for Rockin Hotrod Productions
REFRESH-INTERVAL;VALUE=DURATION:PT1H
X-Robots-Tag:noindex
X-PUBLISHED-TTL:PT1H
BEGIN:VTIMEZONE
TZID:America/Denver
BEGIN:DAYLIGHT
TZOFFSETFROM:-0700
TZOFFSETTO:-0600
TZNAME:MDT
DTSTART:20240310T090000
END:DAYLIGHT
BEGIN:STANDARD
TZOFFSETFROM:-0600
TZOFFSETTO:-0700
TZNAME:MST
DTSTART:20241103T080000
END:STANDARD
BEGIN:DAYLIGHT
TZOFFSETFROM:-0700
TZOFFSETTO:-0600
TZNAME:MDT
DTSTART:20250309T090000
END:DAYLIGHT
BEGIN:STANDARD
TZOFFSETFROM:-0600
TZOFFSETTO:-0700
TZNAME:MST
DTSTART:20251102T080000
END:STANDARD
BEGIN:DAYLIGHT
TZOFFSETFROM:-0700
TZOFFSETTO:-0600
TZNAME:MDT
DTSTART:20260308T090000
END:DAYLIGHT
BEGIN:STANDARD
TZOFFSETFROM:-0600
TZOFFSETTO:-0700
TZNAME:MST
DTSTART:20261101T080000
END:STANDARD
END:VTIMEZONE
BEGIN:VEVENT
DTSTART;TZID=America/Denver:20251018T110000
DTEND;TZID=America/Denver:20251018T140000
DTSTAMP:20260423T173622
CREATED:20241006T132154Z
LAST-MODIFIED:20250930T200431Z
UID:5307-1760785200-1760796000@rockinhotrodproductions.net
SUMMARY:EAGLE MOUNTAIN FREE CAR SHOW 7862 North Tinamous Road EAGLE MOUNTAIN 11-2 PM
DESCRIPTION:
URL:https://rockinhotrodproductions.net/car-show/eagle-mountain-free-car-show-5806-pony-express-pkwy-eagle-mountain-11-2-pm/
END:VEVENT
BEGIN:VEVENT
DTSTART;TZID=America/Denver:20251017T040000
DTEND;TZID=America/Denver:20251017T190000
DTSTAMP:20260423T173622
CREATED:20250923T172121Z
LAST-MODIFIED:20260113T174710Z
UID:5678-1760673600-1760727600@rockinhotrodproductions.net
SUMMARY:EXOTIC KITTY GENTLEMAN CLUB 921 SOUTH 300 WEST SLC\, UT. 4-7 PM
DESCRIPTION:
URL:https://rockinhotrodproductions.net/car-show/big-mammoth-cruise-night-formally-trails-gentleman-club-921-south-300-west-slc-ut-4-7-pm/
END:VEVENT
BEGIN:VEVENT
DTSTART;TZID=America/Denver:20251015T160000
DTEND;TZID=America/Denver:20251015T190000
DTSTAMP:20260423T173622
CREATED:20250723T215341Z
LAST-MODIFIED:20251014T142450Z
UID:5643-1760544000-1760554800@rockinhotrodproductions.net
SUMMARY:CULVER'S 7697 SOUTH 5600 WEST' WEST JORDAN\, UT. 4-7 PM  CANCELED DUE TO WEATHER
DESCRIPTION:
URL:https://rockinhotrodproductions.net/car-show/culvers-7697-south-5600-west-west-jordan-ut-4-7-pm/
END:VEVENT
BEGIN:VEVENT
DTSTART;TZID=America/Denver:20251013T160000
DTEND;TZID=America/Denver:20251013T190000
DTSTAMP:20260423T173622
CREATED:20250817T145331Z
LAST-MODIFIED:20250817T145331Z
UID:5664-1760371200-1760382000@rockinhotrodproductions.net
SUMMARY:CHUBBY'S 1276 WEST 12600 SOUTH RIVERTON\, UT. 4-7 PM
DESCRIPTION:
URL:https://rockinhotrodproductions.net/car-show/chubbys-1276-west-12600-south-riverton-ut-4-7-pm/
END:VEVENT
BEGIN:VEVENT
DTSTART;TZID=America/Denver:20251012T110000
DTEND;TZID=America/Denver:20251012T160000
DTSTAMP:20260423T173622
CREATED:20250817T145220Z
LAST-MODIFIED:20251001T183450Z
UID:5662-1760266800-1760284800@rockinhotrodproductions.net
SUMMARY:BONNEVILLE BREWERY HALLOWEEN CRUISE NIGHT 1641 NORTH MAIN ST. TOOELE\, UT. 11-4 PM
DESCRIPTION:
URL:https://rockinhotrodproductions.net/car-show/bonneville-brewery-halloween-cruise-night-1641-north-main-st-tooele-ut-11-4-pm/
END:VEVENT
BEGIN:VEVENT
DTSTART;TZID=America/Denver:20251011T100000
DTEND;TZID=America/Denver:20251011T150000
DTSTAMP:20260423T173622
CREATED:20241030T190942Z
LAST-MODIFIED:20241030T190942Z
UID:5351-1760176800-1760194800@rockinhotrodproductions.net
SUMMARY:TOYS FOR TOTS CAR SHOW 2400 WEST 14400 SOUTH BLUFFDALE CITY PARK BLUFFDALE CITY\, UT. 10-3 PM
DESCRIPTION:
URL:https://rockinhotrodproductions.net/car-show/toys-for-tots-car-show-2400-west-14400-south-bluffdale-city-park-bluffdale-city-ut-10-3-pm/
END:VEVENT
BEGIN:VEVENT
DTSTART;TZID=America/Denver:20251011T100000
DTEND;TZID=America/Denver:20251011T150000
DTSTAMP:20260423T173622
CREATED:20241006T133124Z
LAST-MODIFIED:20241006T133124Z
UID:5318-1760176800-1760194800@rockinhotrodproductions.net
SUMMARY:TOYS FOR TOTS CAR SHOW
DESCRIPTION:
URL:https://rockinhotrodproductions.net/car-show/toys-for-tots-car-show/
END:VEVENT
BEGIN:VEVENT
DTSTART;TZID=America/Denver:20251005T120000
DTEND;TZID=America/Denver:20251005T150000
DTSTAMP:20260423T173622
CREATED:20250817T145519Z
LAST-MODIFIED:20250817T145519Z
UID:5666-1759665600-1759676400@rockinhotrodproductions.net
SUMMARY:THE MIDWAY 7176 SOUTH 900 EAST MIDVALE\, UT. 12-3 PM
DESCRIPTION:
URL:https://rockinhotrodproductions.net/car-show/the-midway-7176-south-900-east-midvale-ut-12-3-pm/
END:VEVENT
BEGIN:VEVENT
DTSTART;TZID=America/Denver:20250929T170000
DTEND;TZID=America/Denver:20250929T200000
DTSTAMP:20260423T173622
CREATED:20250403T001833Z
LAST-MODIFIED:20250403T001833Z
UID:5557-1759165200-1759176000@rockinhotrodproductions.net
SUMMARY:JIM'S RESTAURANT 12800 SOUTH REDWOOD ROAD RIVERTON\, UT. 5-8 PM
DESCRIPTION:
URL:https://rockinhotrodproductions.net/car-show/jims-restaurant-12800-south-redwood-road-riverton-ut-5-8-pm-4/
END:VEVENT
BEGIN:VEVENT
DTSTART;TZID=America/Denver:20250928T120000
DTEND;TZID=America/Denver:20250928T150000
DTSTAMP:20260423T173622
CREATED:20250403T001652Z
LAST-MODIFIED:20250403T001652Z
UID:5553-1759060800-1759071600@rockinhotrodproductions.net
SUMMARY:THE PUB FORMALLY BOUT TIME 5502 WEST 13400 SOUTH HERRIMAN\, UT 12-3 PM
DESCRIPTION:
URL:https://rockinhotrodproductions.net/car-show/the-pub-formally-bout-time-5502-west-13400-south-herriman-ut-12-3-pm/
END:VEVENT
BEGIN:VEVENT
DTSTART;TZID=America/Denver:20250926T170000
DTEND;TZID=America/Denver:20250926T200000
DTSTAMP:20260423T173622
CREATED:20250530T234224Z
LAST-MODIFIED:20250530T234224Z
UID:5589-1758906000-1758916800@rockinhotrodproductions.net
SUMMARY:SUMMIT SENIOR CENTER 5524 WEST 6200 SOUTH KEARNS\, UT. 5-8 PM
DESCRIPTION:
URL:https://rockinhotrodproductions.net/car-show/summit-senior-center-5524-west-6200-south-kearns-ut-5-8-pm/
END:VEVENT
BEGIN:VEVENT
DTSTART;TZID=America/Denver:20250925T090000
DTEND;TZID=America/Denver:20250925T130000
DTSTAMP:20260423T173622
CREATED:20250730T230005Z
LAST-MODIFIED:20250730T230005Z
UID:5651-1758790800-1758805200@rockinhotrodproductions.net
SUMMARY:L3 HARRIS 2200 WEST 540 NORTH SLC. UT 9-1 PM
DESCRIPTION:
URL:https://rockinhotrodproductions.net/car-show/l3-harris-2200-west-540-north-slc-ut-9-1-pm/
END:VEVENT
BEGIN:VEVENT
DTSTART;TZID=America/Denver:20250921T120000
DTEND;TZID=America/Denver:20250921T150000
DTSTAMP:20260423T173622
CREATED:20250403T001556Z
LAST-MODIFIED:20250403T001556Z
UID:5551-1758456000-1758466800@rockinhotrodproductions.net
SUMMARY:THE MIDWAY 7176 SOUTH 900 EAST MIDVALE\, UT. 12-3 PM
DESCRIPTION:
URL:https://rockinhotrodproductions.net/car-show/the-midway-7176-south-900-east-midvale-ut-12-3-pm-13/
END:VEVENT
BEGIN:VEVENT
DTSTART;TZID=America/Denver:20250920T100000
DTEND;TZID=America/Denver:20250920T150000
DTSTAMP:20260423T173622
CREATED:20241030T185812Z
LAST-MODIFIED:20241030T185812Z
UID:5347-1758362400-1758380400@rockinhotrodproductions.net
SUMMARY:ST JAMES FUNDRAISER CAR SHOW 7485 SOUTH UNION PARK AVE. MIDVALE\, UT. 10-3 PM
DESCRIPTION:
URL:https://rockinhotrodproductions.net/car-show/st-james-fundraiser-car-show-7485-south-union-park-ave-midvale-ut-10-3-pm/
END:VEVENT
BEGIN:VEVENT
DTSTART;TZID=America/Denver:20250918T170000
DTEND;TZID=America/Denver:20250918T200000
DTSTAMP:20260423T173622
CREATED:20250619T232003Z
LAST-MODIFIED:20250804T150204Z
UID:5621-1758214800-1758225600@rockinhotrodproductions.net
SUMMARY:ABBINGTON SENIOR CENTER 5377 SOUTH STATE STREET MURRAY UT. 5-8 PM
DESCRIPTION:
URL:https://rockinhotrodproductions.net/car-show/abbington-senior-center-5377-south-state-street-murray-ut-5-8-pm/
END:VEVENT
BEGIN:VEVENT
DTSTART;TZID=America/Denver:20250917T170000
DTEND;TZID=America/Denver:20250917T200000
DTSTAMP:20260423T173622
CREATED:20250723T215251Z
LAST-MODIFIED:20250723T215251Z
UID:5641-1758128400-1758139200@rockinhotrodproductions.net
SUMMARY:CULVER'S 7697 SOUTH 5600 WEST WEST JORDAN\, UT. 5-8 PM
DESCRIPTION:
URL:https://rockinhotrodproductions.net/car-show/culvers-7697-south-5600-west-west-jordan-ut-5-8-pm-4/
END:VEVENT
BEGIN:VEVENT
DTSTART;TZID=America/Denver:20250916T170000
DTEND;TZID=America/Denver:20250916T200000
DTSTAMP:20260423T173622
CREATED:20250619T132613Z
LAST-MODIFIED:20250916T182623Z
UID:5605-1758042000-1758052800@rockinhotrodproductions.net
SUMMARY:FIIZ 1828 WEST 9000 SOUTH WEST JORDAN\, UT. 5-8 PM CANCELED FOR THE YEAR
DESCRIPTION:
URL:https://rockinhotrodproductions.net/car-show/fiiz-1828-west-9000-south-west-jordan-ut-5-8-pm-3/
END:VEVENT
BEGIN:VEVENT
DTSTART;TZID=America/Denver:20250913T090000
DTEND;TZID=America/Denver:20250913T150000
DTSTAMP:20260423T173622
CREATED:20241216T173403Z
LAST-MODIFIED:20241216T173403Z
UID:5394-1757754000-1757775600@rockinhotrodproductions.net
SUMMARY:VETERANS ALLIANCE IVINS 9-3 PM
DESCRIPTION:
URL:https://rockinhotrodproductions.net/car-show/veterans-alliance-ivins-9-3-pm/
END:VEVENT
BEGIN:VEVENT
DTSTART;TZID=America/Denver:20250912T160000
DTEND;TZID=America/Denver:20250912T170000
DTSTAMP:20260423T173622
CREATED:20250417T175447Z
LAST-MODIFIED:20250417T175447Z
UID:5570-1757692800-1757696400@rockinhotrodproductions.net
SUMMARY:VETERANS ALLIANCE IVINS UTAH
DESCRIPTION:
URL:https://rockinhotrodproductions.net/car-show/veterans-alliance-ivins-utah/
END:VEVENT
BEGIN:VEVENT
DTSTART;TZID=America/Denver:20250908T170000
DTEND;TZID=America/Denver:20250908T200000
DTSTAMP:20260423T173622
CREATED:20250403T001740Z
LAST-MODIFIED:20250403T001740Z
UID:5555-1757350800-1757361600@rockinhotrodproductions.net
SUMMARY:CHUBBY'S 1276 WEST 12600 SOUTH RIVERTON\, UT. 5-8 PM
DESCRIPTION:
URL:https://rockinhotrodproductions.net/car-show/chubbys-1276-west-12600-south-riverton-ut-5-8-pm-3/
END:VEVENT
BEGIN:VEVENT
DTSTART;TZID=America/Denver:20250907T120000
DTEND;TZID=America/Denver:20250907T150000
DTSTAMP:20260423T173622
CREATED:20250403T001513Z
LAST-MODIFIED:20250403T001513Z
UID:5549-1757246400-1757257200@rockinhotrodproductions.net
SUMMARY:THE MIDWAY 7176 SOUTH 900 EAST MIDVALE\, UT.. 12-3 PM
DESCRIPTION:
URL:https://rockinhotrodproductions.net/car-show/the-midway-7176-south-900-east-midvale-ut-12-3-pm-11/
END:VEVENT
BEGIN:VEVENT
DTSTART;TZID=America/Denver:20250906T110000
DTEND;TZID=America/Denver:20250906T150000
DTSTAMP:20260423T173622
CREATED:20250220T014701Z
LAST-MODIFIED:20250220T014701Z
UID:5505-1757156400-1757170800@rockinhotrodproductions.net
SUMMARY:NIXON STRONG FUNDRAISER CAR SHOW 11593 SOUTH 4000 WEST TEXAS ROADHOUSE SO. JORDAN\, UT.
DESCRIPTION:
URL:https://rockinhotrodproductions.net/car-show/nixon-strong-fundraiser-car-show-11593-south-4000-west-texas-roadhouse-so-jordan-ut/
END:VEVENT
BEGIN:VEVENT
DTSTART;TZID=America/Denver:20250831T110000
DTEND;TZID=America/Denver:20250831T140000
DTSTAMP:20260423T173622
CREATED:20250623T202911Z
LAST-MODIFIED:20250623T202911Z
UID:5623-1756638000-1756648800@rockinhotrodproductions.net
SUMMARY:ROCKIN HOTROD PRODUCTIONS ANNUAL BBQ 100 EAST 500 NORTH WINES PARK LEHI\, UT. 11-2 PM FREE TO EVERYONE
DESCRIPTION:
URL:https://rockinhotrodproductions.net/car-show/rockin-hotrod-productions-annual-bbq-100-east-500-north-wines-park-lehi-ut-11-2-pm-free-to-everyone/
END:VEVENT
BEGIN:VEVENT
DTSTART;TZID=America/Denver:20250830T100000
DTEND;TZID=America/Denver:20250830T160000
DTSTAMP:20260423T173622
CREATED:20250115T004926Z
LAST-MODIFIED:20250115T004926Z
UID:5479-1756548000-1756569600@rockinhotrodproductions.net
SUMMARY:OUTLAW CAR SHOW SCOFIELD UTAH PARK SCOFIELD UTAH 10-4 PM
DESCRIPTION:
URL:https://rockinhotrodproductions.net/car-show/outlaw-car-show-scofield-utah-park-scofield-utah-10-4-pm/
END:VEVENT
BEGIN:VEVENT
DTSTART;TZID=America/Denver:20250825T170000
DTEND;TZID=America/Denver:20250825T200000
DTSTAMP:20260423T173622
CREATED:20250812T144046Z
LAST-MODIFIED:20250812T144046Z
UID:5658-1756141200-1756152000@rockinhotrodproductions.net
SUMMARY:JIM'S RESTAURANT 12800 SOUTH REDWOOD ROAD RIVERTON UTAH 5-8 PM
DESCRIPTION:
URL:https://rockinhotrodproductions.net/car-show/jims-restaurant-12800-south-redwood-road-riverton-utah-5-8-pm/
END:VEVENT
BEGIN:VEVENT
DTSTART;TZID=America/Denver:20250824T120000
DTEND;TZID=America/Denver:20250824T150000
DTSTAMP:20260423T173622
CREATED:20250403T000148Z
LAST-MODIFIED:20250824T145208Z
UID:5544-1756036800-1756047600@rockinhotrodproductions.net
SUMMARY:THE PUB 5502 WEST 13400 SOUTH HERRIMAN\, UT. FORMELY BOUT TIME 12-3 PM CANCELED DUE TO WEATHER
DESCRIPTION:
URL:https://rockinhotrodproductions.net/car-show/the-pub-5502-west-13400-south-herriman-ut-formely-bout-time-12-3-pm/
END:VEVENT
BEGIN:VEVENT
DTSTART;TZID=America/Denver:20250823T100000
DTEND;TZID=America/Denver:20250823T150000
DTSTAMP:20260423T173622
CREATED:20241030T185359Z
LAST-MODIFIED:20241030T185359Z
UID:5345-1755943200-1755961200@rockinhotrodproductions.net
SUMMARY:VETERANS ALLIANCE CAR SHOW WHEELER FARM MURRAY UTAH 10-3 PM
DESCRIPTION:
URL:https://rockinhotrodproductions.net/car-show/veterans-alliance-car-show-wheeler-farm-murray-utah-10-3-pm/
END:VEVENT
BEGIN:VEVENT
DTSTART;TZID=America/Denver:20250822T170000
DTEND;TZID=America/Denver:20250822T200000
DTSTAMP:20260423T173622
CREATED:20250116T151522Z
LAST-MODIFIED:20250116T171748Z
UID:5488-1755882000-1755892800@rockinhotrodproductions.net
SUMMARY:STANS MARKET 4195 WEST 5415 SOUTH KEARNS\, UT. 5-8 PM
DESCRIPTION:
URL:https://rockinhotrodproductions.net/car-show/stans-market-4195-west-5415-south-kearns-ut-5-8-pm/
END:VEVENT
BEGIN:VEVENT
DTSTART;TZID=America/Denver:20250820T170000
DTEND;TZID=America/Denver:20250820T200000
DTSTAMP:20260423T173622
CREATED:20250723T215157Z
LAST-MODIFIED:20250723T215157Z
UID:5639-1755709200-1755720000@rockinhotrodproductions.net
SUMMARY:CULVER'S 7697 SOUTH 5600 WEST WEST JORDAN\, UT. 5-8 PM
DESCRIPTION:
URL:https://rockinhotrodproductions.net/car-show/culvers-7697-south-5600-west-west-jordan-ut-5-8-pm-3/
END:VEVENT
BEGIN:VEVENT
DTSTART;TZID=America/Denver:20250819T170000
DTEND;TZID=America/Denver:20250819T200000
DTSTAMP:20260423T173622
CREATED:20250619T132858Z
LAST-MODIFIED:20250724T190700Z
UID:5609-1755622800-1755633600@rockinhotrodproductions.net
SUMMARY:FIIZ 1828 WEST 9000 SOUTH WEST JORDAN\, UT. 5-8 PM CANCELED FOR AUGUST BACK TO SCHOOL
DESCRIPTION:
URL:https://rockinhotrodproductions.net/car-show/fiiz-1828-west-9000-south-west-jordan-ut-5-8-pm-4/
END:VEVENT
END:VCALENDAR