BEGIN:VCALENDAR
VERSION:2.0
PRODID:-//Rockin Hotrod Productions - ECPv6.15.20//NONSGML v1.0//EN
CALSCALE:GREGORIAN
METHOD:PUBLISH
X-WR-CALNAME:Rockin Hotrod Productions
X-ORIGINAL-URL:https://rockinhotrodproductions.net
X-WR-CALDESC:Events for Rockin Hotrod Productions
REFRESH-INTERVAL;VALUE=DURATION:PT1H
X-Robots-Tag:noindex
X-PUBLISHED-TTL:PT1H
BEGIN:VTIMEZONE
TZID:America/Denver
BEGIN:DAYLIGHT
TZOFFSETFROM:-0700
TZOFFSETTO:-0600
TZNAME:MDT
DTSTART:20250309T090000
END:DAYLIGHT
BEGIN:STANDARD
TZOFFSETFROM:-0600
TZOFFSETTO:-0700
TZNAME:MST
DTSTART:20251102T080000
END:STANDARD
BEGIN:DAYLIGHT
TZOFFSETFROM:-0700
TZOFFSETTO:-0600
TZNAME:MDT
DTSTART:20260308T090000
END:DAYLIGHT
BEGIN:STANDARD
TZOFFSETFROM:-0600
TZOFFSETTO:-0700
TZNAME:MST
DTSTART:20261101T080000
END:STANDARD
BEGIN:DAYLIGHT
TZOFFSETFROM:-0700
TZOFFSETTO:-0600
TZNAME:MDT
DTSTART:20270314T090000
END:DAYLIGHT
BEGIN:STANDARD
TZOFFSETFROM:-0600
TZOFFSETTO:-0700
TZNAME:MST
DTSTART:20271107T080000
END:STANDARD
END:VTIMEZONE
BEGIN:VEVENT
DTSTART;TZID=America/Denver:20260606T090000
DTEND;TZID=America/Denver:20260606T133000
DTSTAMP:20260423T154518
CREATED:20251030T143457Z
LAST-MODIFIED:20260317T192451Z
UID:5724-1780736400-1780752600@rockinhotrodproductions.net
SUMMARY:THE GIVING GRINCH CAR SHOW 14400 SOUTH 2400 WEST BLUFFDALE\, UT. 9-1:30 pm PM
DESCRIPTION:
URL:https://rockinhotrodproductions.net/car-show/the-giving-grinch-car-show-14400-south-2400-west-bluffdale-ut-10-3-pm/
END:VEVENT
BEGIN:VEVENT
DTSTART;TZID=America/Denver:20260607T120000
DTEND;TZID=America/Denver:20260607T150000
DTSTAMP:20260423T154518
CREATED:20251210T152323Z
LAST-MODIFIED:20251210T152323Z
UID:5776-1780833600-1780844400@rockinhotrodproductions.net
SUMMARY:WATERSHED 7176 SOUTH 900 EAST MIDVALE\, UT. 12-3 PM
DESCRIPTION:
URL:https://rockinhotrodproductions.net/car-show/watershed-7176-south-900-east-midvale-ut-12-3-pm/
END:VEVENT
BEGIN:VEVENT
DTSTART;TZID=America/Denver:20260608T170000
DTEND;TZID=America/Denver:20260608T200000
DTSTAMP:20260423T154518
CREATED:20251210T152630Z
LAST-MODIFIED:20251210T152630Z
UID:5784-1780938000-1780948800@rockinhotrodproductions.net
SUMMARY:CHUBBY'S 1276 WEST 12600 SOUTH RIVERTON\, UT. 5-8 PM
DESCRIPTION:
URL:https://rockinhotrodproductions.net/car-show/chubbys-1276-west-12600-south-riverton-ut-5-8-pm-2/
END:VEVENT
BEGIN:VEVENT
DTSTART;TZID=America/Denver:20260613T100000
DTEND;TZID=America/Denver:20260613T160000
DTSTAMP:20260423T154518
CREATED:20260317T201556Z
LAST-MODIFIED:20260317T201556Z
UID:5894-1781344800-1781366400@rockinhotrodproductions.net
SUMMARY:RIDE THE BRAINWAVE CAR SHOW 173 SEGO LILY DR. SANDY\, UT. 10-4 PM
DESCRIPTION:
URL:https://rockinhotrodproductions.net/car-show/ride-the-brainwave-car-show-173-sego-lily-dr-sandy-ut-10-4-pm/
END:VEVENT
BEGIN:VEVENT
DTSTART;TZID=America/Denver:20260614T120000
DTEND;TZID=America/Denver:20260614T150000
DTSTAMP:20260423T154518
CREATED:20251210T152541Z
LAST-MODIFIED:20260113T174836Z
UID:5782-1781438400-1781449200@rockinhotrodproductions.net
SUMMARY:EXOTIC KITTY 2.0 921 SOUTH 300 WEST SLC\, UT. 12=3 PM
DESCRIPTION:
URL:https://rockinhotrodproductions.net/car-show/fat-mammoth-921-south-300-west-slc-ut-123-pm/
END:VEVENT
BEGIN:VEVENT
DTSTART;TZID=America/Denver:20260615T170000
DTEND;TZID=America/Denver:20260615T200000
DTSTAMP:20260423T154518
CREATED:20260417T205703Z
LAST-MODIFIED:20260417T205825Z
UID:5920-1781542800-1781553600@rockinhotrodproductions.net
SUMMARY:CHUBBY'S IN HERRIMAN 12271 HERRIMAN MAIN STREET 5-8 PM
DESCRIPTION:
URL:https://rockinhotrodproductions.net/car-show/chubbys-in-herriman-12271-herriman-main-street-5-8-pm/
END:VEVENT
BEGIN:VEVENT
DTSTART;TZID=America/Denver:20260615T170000
DTEND;TZID=America/Denver:20260615T200000
DTSTAMP:20260423T154518
CREATED:20260417T205951Z
LAST-MODIFIED:20260417T205951Z
UID:5922-1781542800-1781553600@rockinhotrodproductions.net
SUMMARY:CHUBBY'S IN HERRIMAN.12271 HERRIMAN MAIN STREET 5-8 PM
DESCRIPTION:
URL:https://rockinhotrodproductions.net/car-show/chubbys-in-herriman-12271-herriman-main-street-5-8-pm-2/
END:VEVENT
BEGIN:VEVENT
DTSTART;TZID=America/Denver:20260617T170000
DTEND;TZID=America/Denver:20260617T200000
DTSTAMP:20260423T154518
CREATED:20251210T150840Z
LAST-MODIFIED:20251210T150840Z
UID:5770-1781715600-1781726400@rockinhotrodproductions.net
SUMMARY:CULVERS 7697 SOUTH 5600 WEST WEST JORDAN\, UT. 5-8 PM
DESCRIPTION:
URL:https://rockinhotrodproductions.net/car-show/culvers-7697-south-5600-west-west-jordan-ut-5-8-pm-6/
END:VEVENT
BEGIN:VEVENT
DTSTART;TZID=America/Denver:20260618T170000
DTEND;TZID=America/Denver:20260618T200000
DTSTAMP:20260423T154518
CREATED:20260320T230149Z
LAST-MODIFIED:20260320T230149Z
UID:5900-1781802000-1781812800@rockinhotrodproductions.net
SUMMARY:PETERSON MARKET FREE SHOW 1784 WEST 12600 SOUTH RIVERTON\, UT. 5-8 PM
DESCRIPTION:
URL:https://rockinhotrodproductions.net/car-show/peterson-market-free-show-1784-west-12600-south-riverton-ut-5-8-pm/
END:VEVENT
BEGIN:VEVENT
DTSTART;TZID=America/Denver:20260620T100000
DTEND;TZID=America/Denver:20260620T150000
DTSTAMP:20260423T154518
CREATED:20260220T180352Z
LAST-MODIFIED:20260303T184010Z
UID:5880-1781949600-1781967600@rockinhotrodproductions.net
SUMMARY:FATHERS DAY CAR SHOW  COMING TO SALT LAKE CITY FROM 11-4 PM FAIRMONT PARK 1049 EAST SUGARMONT DR. [2225 SOUTH] SALT LAKE CITY\, UTAH
DESCRIPTION:
URL:https://rockinhotrodproductions.net/car-show/fathers-day-car-show-coming-to-salt-lake-city-from-10-3-pm-location-coming-soon-it-will-be-in-a-park/
END:VEVENT
BEGIN:VEVENT
DTSTART;TZID=America/Denver:20260621T120000
DTEND;TZID=America/Denver:20260621T150000
DTSTAMP:20260423T154518
CREATED:20251210T152411Z
LAST-MODIFIED:20251210T152411Z
UID:5778-1782043200-1782054000@rockinhotrodproductions.net
SUMMARY:WATERSHED 7176 SOUTH 900 EAST MIDVALE\, UT. 12-3 PM
DESCRIPTION:
URL:https://rockinhotrodproductions.net/car-show/watershed-7176-south-900-east-midvale-ut-12-3-pm-2/
END:VEVENT
BEGIN:VEVENT
DTSTART;TZID=America/Denver:20260627T100000
DTEND;TZID=America/Denver:20260627T150000
DTSTAMP:20260423T154518
CREATED:20260128T202358Z
LAST-MODIFIED:20260128T202358Z
UID:5868-1782554400-1782572400@rockinhotrodproductions.net
SUMMARY:RIVERTON TOWN DAYS CAR SHOW 12800 SOUTH 1750 WEST NEXT TO CITY HALL RIVERTON\,UT. 10-3 PM
DESCRIPTION:
URL:https://rockinhotrodproductions.net/car-show/riverton-town-days-car-show-12800-south-1750-west-next-to-city-hall-rivertonut-10-3-pm/
END:VEVENT
BEGIN:VEVENT
DTSTART;TZID=America/Denver:20260628T120000
DTEND;TZID=America/Denver:20260628T150000
DTSTAMP:20260423T154518
CREATED:20251210T152457Z
LAST-MODIFIED:20251210T152457Z
UID:5780-1782648000-1782658800@rockinhotrodproductions.net
SUMMARY:THE PUB 5502 WEST 13400 SOUTH HERRIMAN\, UT.12-3 PM
DESCRIPTION:
URL:https://rockinhotrodproductions.net/car-show/the-pub-5502-west-13400-south-herriman-ut-12-3-pm-4/
END:VEVENT
BEGIN:VEVENT
DTSTART;TZID=America/Denver:20260629T170000
DTEND;TZID=America/Denver:20260629T200000
DTSTAMP:20260423T154518
CREATED:20251210T152729Z
LAST-MODIFIED:20251210T152729Z
UID:5786-1782752400-1782763200@rockinhotrodproductions.net
SUMMARY:JIM'S RESTAURANT 12800 SOUTH REDWOOD ROAD RIVERTON\, UT. 5-8 PM
DESCRIPTION:
URL:https://rockinhotrodproductions.net/car-show/jims-restaurant-12800-south-redwood-road-riverton-ut-5-8-pm-6/
END:VEVENT
BEGIN:VEVENT
DTSTART;TZID=America/Denver:20260704T090000
DTEND;TZID=America/Denver:20260704T150000
DTSTAMP:20260423T154518
CREATED:20251210T151242Z
LAST-MODIFIED:20251210T151242Z
UID:5774-1783155600-1783177200@rockinhotrodproductions.net
SUMMARY:MURRAY CITY FUN DAYS CAR SHOW MURRAY PARK BY POOL MURRAY\, UT. 9-3 PM
DESCRIPTION:
URL:https://rockinhotrodproductions.net/car-show/murray-city-fun-days-car-show-murray-park-by-pool-murray-ut-9-3-pm/
END:VEVENT
BEGIN:VEVENT
DTSTART;TZID=America/Denver:20260705T120000
DTEND;TZID=America/Denver:20260705T150000
DTSTAMP:20260423T154518
CREATED:20260110T173204Z
LAST-MODIFIED:20260110T173204Z
UID:5830-1783252800-1783263600@rockinhotrodproductions.net
SUMMARY:THE WATERSHED 7176 SOUTH 900 EAST MIDVALE\, UT. 12-3 PM
DESCRIPTION:
URL:https://rockinhotrodproductions.net/car-show/the-watershed-7176-south-900-east-midvale-ut-12-3-pm-4/
END:VEVENT
BEGIN:VEVENT
DTSTART;TZID=America/Denver:20260706T170000
DTEND;TZID=America/Denver:20260706T200000
DTSTAMP:20260423T154518
CREATED:20251229T200400Z
LAST-MODIFIED:20251229T200400Z
UID:5815-1783357200-1783368000@rockinhotrodproductions.net
SUMMARY:LONE STAR SALOON 3153 WEST 2100 SOUTH WVC\, UT 5-8 PM
DESCRIPTION:
URL:https://rockinhotrodproductions.net/car-show/lone-star-saloon-3153-west-2100-south-wvc-ut-5-8-pm-3/
END:VEVENT
BEGIN:VEVENT
DTSTART;TZID=America/Denver:20260706T170000
DTEND;TZID=America/Denver:20260706T200000
DTSTAMP:20260423T154518
CREATED:20260110T173609Z
LAST-MODIFIED:20260110T173609Z
UID:5838-1783357200-1783368000@rockinhotrodproductions.net
SUMMARY:LONESTAR SALOON 3153 WEST 2100 SOUTH SLC\, UT. 5-8 PM
DESCRIPTION:
URL:https://rockinhotrodproductions.net/car-show/lonestar-saloon-3153-west-2100-south-slc-ut-5-8-pm/
END:VEVENT
BEGIN:VEVENT
DTSTART;TZID=America/Denver:20260712T120000
DTEND;TZID=America/Denver:20260712T150000
DTSTAMP:20260423T154518
CREATED:20260110T173409Z
LAST-MODIFIED:20260113T174605Z
UID:5834-1783857600-1783868400@rockinhotrodproductions.net
SUMMARY:EXOTIC KITTY 921 SOUTH 300 WEST SLC\, UT. 12-3 PM
DESCRIPTION:
URL:https://rockinhotrodproductions.net/car-show/fat-mammoth-921-south-300-west-slc-ut-12-3-pm/
END:VEVENT
BEGIN:VEVENT
DTSTART;TZID=America/Denver:20260713T170000
DTEND;TZID=America/Denver:20260713T200000
DTSTAMP:20260423T154518
CREATED:20260110T173656Z
LAST-MODIFIED:20260110T173656Z
UID:5840-1783962000-1783972800@rockinhotrodproductions.net
SUMMARY:CHUBBY'S 1276 WEST 12600 SOUTH RIVERTON\, UT. 5-8 PM
DESCRIPTION:
URL:https://rockinhotrodproductions.net/car-show/chubbys-1276-west-12600-south-riverton-ut-5-8-pm-7/
END:VEVENT
BEGIN:VEVENT
DTSTART;TZID=America/Denver:20260715T170000
DTEND;TZID=America/Denver:20260715T200000
DTSTAMP:20260423T154518
CREATED:20251210T150934Z
LAST-MODIFIED:20251210T150934Z
UID:5772-1784134800-1784145600@rockinhotrodproductions.net
SUMMARY:CULVERS 7697 SOUTH 5600 WEST WEST JORDAN\, UT. 5-8 PM
DESCRIPTION:
URL:https://rockinhotrodproductions.net/car-show/culvers-7697-south-5600-west-west-jordan-ut-5-8-pm-7/
END:VEVENT
BEGIN:VEVENT
DTSTART;TZID=America/Denver:20260718T090000
DTEND;TZID=America/Denver:20260718T150000
DTSTAMP:20260423T154518
CREATED:20251030T142228Z
LAST-MODIFIED:20251030T142228Z
UID:5702-1784365200-1784386800@rockinhotrodproductions.net
SUMMARY:UINTAH BASIN CAR SHOW ROOSEVELT PARK ROOSEVELT UT\, 9-3 PM
DESCRIPTION:
URL:https://rockinhotrodproductions.net/car-show/uintah-basin-car-show-roosevelt-park-roosevelt-ut-9-3-pm/
END:VEVENT
BEGIN:VEVENT
DTSTART;TZID=America/Denver:20260719T120000
DTEND;TZID=America/Denver:20260719T150000
DTSTAMP:20260423T154518
CREATED:20260110T173301Z
LAST-MODIFIED:20260110T173301Z
UID:5832-1784462400-1784473200@rockinhotrodproductions.net
SUMMARY:THE WATERSHED 7176 SOUTH 900 EAST MIDVALE\, UT. 12-3 PM
DESCRIPTION:
URL:https://rockinhotrodproductions.net/car-show/the-watershed-7176-south-900-east-midvale-ut-12-3-pm-5/
END:VEVENT
BEGIN:VEVENT
DTSTART;TZID=America/Denver:20260720T080000
DTEND;TZID=America/Denver:20260720T170000
DTSTAMP:20260423T154518
CREATED:20260417T210210Z
LAST-MODIFIED:20260417T210210Z
UID:5926-1784534400-1784566800@rockinhotrodproductions.net
SUMMARY:CHUBBY'S IN HERRIMAN 12271 MAIN STREET HERRIMAN\, UT. 5-8 PM
DESCRIPTION:
URL:https://rockinhotrodproductions.net/car-show/chubbys-in-herriman-12271-main-street-herriman-ut-5-8-pm/
END:VEVENT
BEGIN:VEVENT
DTSTART;TZID=America/Denver:20260726T120000
DTEND;TZID=America/Denver:20260726T150000
DTSTAMP:20260423T154518
CREATED:20260110T173507Z
LAST-MODIFIED:20260110T173507Z
UID:5836-1785067200-1785078000@rockinhotrodproductions.net
SUMMARY:THE PUB 5502 WEST 13400 SOUTH HERRIMAN\, UT. 12-3 PM
DESCRIPTION:
URL:https://rockinhotrodproductions.net/car-show/the-pub-5502-west-13400-south-herriman-ut-12-3-pm-6/
END:VEVENT
BEGIN:VEVENT
DTSTART;TZID=America/Denver:20260727T170000
DTEND;TZID=America/Denver:20260727T200000
DTSTAMP:20260423T154518
CREATED:20260110T173803Z
LAST-MODIFIED:20260110T173803Z
UID:5842-1785171600-1785182400@rockinhotrodproductions.net
SUMMARY:JIM'S RESTAURANT 12800 SOUTH REDWOOD RD. RIVERTON\, UT. 5-8 PM
DESCRIPTION:
URL:https://rockinhotrodproductions.net/car-show/jims-restaurant-12800-south-redwood-rd-riverton-ut-5-8-pm/
END:VEVENT
BEGIN:VEVENT
DTSTART;TZID=America/Denver:20260802T120000
DTEND;TZID=America/Denver:20260802T150000
DTSTAMP:20260423T154518
CREATED:20260117T135736Z
LAST-MODIFIED:20260117T135736Z
UID:5853-1785672000-1785682800@rockinhotrodproductions.net
SUMMARY:THE WATERSHED 7176 SOUTH 900 EAST MIDVALE\, UT. 12-3 PM
DESCRIPTION:
URL:https://rockinhotrodproductions.net/car-show/the-watershed-7176-south-900-east-midvale-ut-12-3-pm-6/
END:VEVENT
BEGIN:VEVENT
DTSTART;TZID=America/Denver:20260803T170000
DTEND;TZID=America/Denver:20260803T200000
DTSTAMP:20260423T154518
CREATED:20251229T204345Z
LAST-MODIFIED:20251229T204345Z
UID:5818-1785776400-1785787200@rockinhotrodproductions.net
SUMMARY:LONE STAR SALOON 3153 WEST 2100 SOUTH WVC\, UT. 5-8 PM
DESCRIPTION:
URL:https://rockinhotrodproductions.net/car-show/lone-star-saloon-3153-west-2100-south-wvc-ut-5-8-pm-4/
END:VEVENT
BEGIN:VEVENT
DTSTART;TZID=America/Denver:20260808T100000
DTEND;TZID=America/Denver:20260808T150000
DTSTAMP:20260423T154518
CREATED:20251115T224714Z
LAST-MODIFIED:20260331T134410Z
UID:5745-1786183200-1786201200@rockinhotrodproductions.net
SUMMARY:LEHI PD FUNDRAISER CAR SHOW CABELA'S LEHI\, UT. 10-3 PM
DESCRIPTION:
URL:https://rockinhotrodproductions.net/car-show/lehi-pd-fundraiser-car-show-cabelas-lehi-ut-10-3-pm/
END:VEVENT
BEGIN:VEVENT
DTSTART;TZID=America/Denver:20260809T120000
DTEND;TZID=America/Denver:20260809T150000
DTSTAMP:20260423T154518
CREATED:20260117T135912Z
LAST-MODIFIED:20260117T135912Z
UID:5857-1786276800-1786287600@rockinhotrodproductions.net
SUMMARY:TRAILS 921 SOUTH 300 WEST SLC\, UT. 12-3 PM
DESCRIPTION:
URL:https://rockinhotrodproductions.net/car-show/trails-921-south-300-west-slc-ut-12-3-pm/
END:VEVENT
END:VCALENDAR