BEGIN:VCALENDAR
VERSION:2.0
PRODID:-//Rockin Hotrod Productions - ECPv6.15.20//NONSGML v1.0//EN
CALSCALE:GREGORIAN
METHOD:PUBLISH
X-WR-CALNAME:Rockin Hotrod Productions
X-ORIGINAL-URL:https://rockinhotrodproductions.net
X-WR-CALDESC:Events for Rockin Hotrod Productions
REFRESH-INTERVAL;VALUE=DURATION:PT1H
X-Robots-Tag:noindex
X-PUBLISHED-TTL:PT1H
BEGIN:VTIMEZONE
TZID:America/Denver
BEGIN:DAYLIGHT
TZOFFSETFROM:-0700
TZOFFSETTO:-0600
TZNAME:MDT
DTSTART:20240310T090000
END:DAYLIGHT
BEGIN:STANDARD
TZOFFSETFROM:-0600
TZOFFSETTO:-0700
TZNAME:MST
DTSTART:20241103T080000
END:STANDARD
BEGIN:DAYLIGHT
TZOFFSETFROM:-0700
TZOFFSETTO:-0600
TZNAME:MDT
DTSTART:20250309T090000
END:DAYLIGHT
BEGIN:STANDARD
TZOFFSETFROM:-0600
TZOFFSETTO:-0700
TZNAME:MST
DTSTART:20251102T080000
END:STANDARD
BEGIN:DAYLIGHT
TZOFFSETFROM:-0700
TZOFFSETTO:-0600
TZNAME:MDT
DTSTART:20260308T090000
END:DAYLIGHT
BEGIN:STANDARD
TZOFFSETFROM:-0600
TZOFFSETTO:-0700
TZNAME:MST
DTSTART:20261101T080000
END:STANDARD
END:VTIMEZONE
BEGIN:VEVENT
DTSTART;TZID=America/Denver:20250726T110000
DTEND;TZID=America/Denver:20250726T160000
DTSTAMP:20260423T233410
CREATED:20250706T150357Z
LAST-MODIFIED:20250706T150357Z
UID:5630-1753527600-1753545600@rockinhotrodproductions.net
SUMMARY:BONNEVILLE BREWERY 1641 NORTH MAIN STREET TOOELE\, UT. 11-4 PM
DESCRIPTION:
URL:https://rockinhotrodproductions.net/car-show/bonneville-brewery-1641-north-main-street-tooele-ut-11-4-pm/
END:VEVENT
END:VCALENDAR